BEGIN:VCALENDAR
VERSION:2.0
BEGIN:VEVENT
DTSTART:20200605T230000
DURATION:PT00H00M00S
SUMMARY:[DEADLINE] ΕΡΓΑΣΙΑ - ΠΡΟΟΔΟΥ
DESCRIPTION:Με τη χρήση της εφαρμογής animate portable cc να δημιουργήσετε ταινία animation της αρεσκείας σας η οποία θα περιλαμβάνει α εξής:
1. τουλάχιστον δύο layers
2. Κίνηση animation classic tween ή frame per frame
3. Σχεδιασμό του background με τη χρήση της εργαλειοθήκης της εφαρμογής
 Να αποθηκευτεί η ταινία με τη φορφή .fla και να ανεβεί στο eclass μέχρι την Πέμπτη 4/6/2020 ώρα 21.00
 
(deadline: 2020-06-05 23:00:00)
BEGIN:VALARM
TRIGGER:-PT24H
DURATION:PT10H
ACTION:DISPLAY
DESCRIPTION:DEADLINE REMINDER for ΕΡΓΑΣΙΑ - ΠΡΟΟΔΟΥ
END:VALARM
END:VEVENT
BEGIN:VEVENT
DTSTART:20200624T230000
DURATION:PT00H00M00S
SUMMARY:[DEADLINE] Τελική Εργασία
DESCRIPTION:Χρησιμοποιώντας την εφαρμογή Animate CC βάλτε τη φαντασία σας να δουλέψει και σχεδιάστε ταινία με θέμα " Η καταστροφή της γής!" Θα πρέπει να χρησιμοποιήσετε τα παρακάτω:
1. τουλάχιστον δύο layers
2. Κίνηση animation shape tween ή motion tween ή τον συνδυασμό τους
3. Σχεδιασμό του background και των σχημάτων με τη χρήση της εργαλειοθήκης της εφαρμογής ή μέσω διαδικτύου αν επιθυμείτε.
4. Η ταινία θα κλείνει με ένα κόκκινο φόντο που θα γράφει τη λέξη "ΒΟΟΜ"
Σας ανεβάζω ένα ενδεικτικό παράδειγμα για να πάρετε μιά ιδέα. Δείτε προσεκτικά τα tutorial που σας ανέβασα στο eclass και δεν θα έχετε κανένα πρόβλημα.
Για να ανεβάσετε το αρχείο αρχείο .fla υποχρεωτικά θα πρέπει να είιναι συμπιεσμένο (rar, zip ktl). Προθεσμία υποβολής Τετάρτη 24/06/2020 ώρα 23:00 
Την εργασία εκτός απο το eclass θέλω να μου την στείλετε και με email. 
 
 Να αποθηκευτεί η ταινία με τη φορφή .fla και να ανεβεί στο eclass μέχρι την Πέμπτη 4/6/2020 ώρα 21.00
ΚΑΛΗ ΕΠΙΤΥΧΙΑ!
 
(deadline: 2020-06-24 23:00:00)
BEGIN:VALARM
TRIGGER:-PT24H
DURATION:PT10H
ACTION:DISPLAY
DESCRIPTION:DEADLINE REMINDER for Τελική Εργασία
END:VALARM
END:VEVENT
END:VCALENDAR
